BEGIN:VCALENDAR
VERSION:2.0
PRODID:-//Vereinigung der Verfolgten des Naziregimes - ECPv6.15.20//NONSGML v1.0//EN
CALSCALE:GREGORIAN
METHOD:PUBLISH
X-WR-CALNAME:Vereinigung der Verfolgten des Naziregimes
X-ORIGINAL-URL:https://hamburg.vvn-bda.de
X-WR-CALDESC:Veranstaltungen für Vereinigung der Verfolgten des Naziregimes
REFRESH-INTERVAL;VALUE=DURATION:PT1H
X-Robots-Tag:noindex
X-PUBLISHED-TTL:PT1H
BEGIN:VTIMEZONE
TZID:Europe/Paris
BEGIN:DAYLIGHT
TZOFFSETFROM:+0100
TZOFFSETTO:+0200
TZNAME:CEST
DTSTART:20210328T010000
END:DAYLIGHT
BEGIN:STANDARD
TZOFFSETFROM:+0200
TZOFFSETTO:+0100
TZNAME:CET
DTSTART:20211031T010000
END:STANDARD
BEGIN:DAYLIGHT
TZOFFSETFROM:+0100
TZOFFSETTO:+0200
TZNAME:CEST
DTSTART:20220327T010000
END:DAYLIGHT
BEGIN:STANDARD
TZOFFSETFROM:+0200
TZOFFSETTO:+0100
TZNAME:CET
DTSTART:20221030T010000
END:STANDARD
BEGIN:DAYLIGHT
TZOFFSETFROM:+0100
TZOFFSETTO:+0200
TZNAME:CEST
DTSTART:20230326T010000
END:DAYLIGHT
BEGIN:STANDARD
TZOFFSETFROM:+0200
TZOFFSETTO:+0100
TZNAME:CET
DTSTART:20231029T010000
END:STANDARD
END:VTIMEZONE
BEGIN:VEVENT
DTSTART;TZID=Europe/Paris:20220901T100000
DTEND;TZID=Europe/Paris:20220901T170000
DTSTAMP:20260422T072645
CREATED:20220901T055817Z
LAST-MODIFIED:20220901T061922Z
UID:5346-1662026400-1662051600@hamburg.vvn-bda.de
SUMMARY:Kranzniederlegung und Kundgebung: Frieden schaffen - ohne Waffen!
DESCRIPTION:Seit 1957 wird am heutigen Antikriegstag ein Zeichen für den Frieden gesetzt. \nDas Fundament des Friedens ist eine ausgeprägte zivile und demokratische Gesellschaft. Friedenserziehung\, Mitbestimmung und Teilhabe in Wirtschaft und Gesellschaft\, soziale Gerechtigkeit und Umweltschutz sowie ein konsequenter Antifaschismus sind dafür unverzichtbar. Einen neuen Rüstungswettlauf\, Atomwaffen und die Stärkung militärischer Bündnisse lehnen wir ab! \nUnter dem Motto „Frieden schaffen – ohne Waffen!“ rufen wir gemeinsam mit dem DGB\, dem Auschwitz-Komitee und dem Arbeitskreis ehemalgs verfolgter und inhaftierter Sozialdemokraten rufen auf: \n\num 10:00 Uhr zur Kranzniederlegung (Mahnmal für die Opfer von Krieg und Faschismus\, Friedhof Ohlsdorf)\num 16:00 Uhr zur Kundgebung vor dem Gewerkschaftshaus (Besenbinderhof 60)\nEs sprechen\nWolfgang Kopitzsch – Arbeitskreis ehemals verfolgter und inhaftierter Sozialdemokraten\nCornelia Kerth – Vereinigung der Verfolgten des Naziregimes\nTanja Chawla – Deutscher Gewerkschaftsbund Hamburg\nHelga Obens – Auschwitz-Komitee\n\nHier geht’s zum Aufruf.
URL:https://hamburg.vvn-bda.de/event/kranzniederlegung-und-kundgebung-antikriegstag/
LOCATION:Mahnmal für die Opfer von Krieg und Faschismus des Friedhofs Ohlsdorf\, Fuhlsbüttler Str. 756\, 22337
CATEGORIES:Gedenkveranstaltung,Kundgebung
ATTACH;FMTTYPE=image/png:https://hamburg.vvn-bda.de/wp-content/uploads/sites/16/2022/04/1024px-Friedenstaube_weiss_blau_kreis.svg_.png
END:VEVENT
END:VCALENDAR